BEGIN:VCALENDAR
VERSION:2.0
PRODID:-//Squarespace Inc/Squarespace 6//v6//EN
BEGIN:VEVENT
UID:55700b73e4b03651f872564b@squarespace.com
DTSTAMP:20150604T082611Z
DTSTART:20150809T050000Z
DTEND:20150809T060000Z
SUMMARY:Tunes of I 'Give In' Video Release - Wellington
END:VEVENT
END:VCALENDAR
