BEGIN:VCALENDAR
VERSION:2.0
PRODID:-//Squarespace Inc/Squarespace 6//v6//EN
BEGIN:VEVENT
UID:55700918e4b072434a9cf7bc@squarespace.com
DTSTAMP:20150604T082505Z
DTSTART:20150701T223000Z
DTEND:20150704T003000Z
SUMMARY:Matariki Festival Wellington - Seven Brothers Concert
END:VEVENT
END:VCALENDAR
