BEGIN:VCALENDAR
VERSION:2.0
PRODID:-//Squarespace Inc/Squarespace 6//v6//EN
BEGIN:VEVENT
UID:55700891e4b093e99ed7c3c6@squarespace.com
DTSTAMP:20150604T081503Z
DTSTART:20150627T230000Z
DTEND:20150629T050000Z
SUMMARY:Matariki Festival Auckland
END:VEVENT
END:VCALENDAR
