BEGIN:VCALENDAR
VERSION:2.0
PRODID:-//Squarespace Inc/Squarespace 6//v6//EN
BEGIN:VEVENT
UID:556fd0c7e4b09866d6d3e257@squarespace.com
DTSTAMP:20150604T041924Z
DTSTART:20150620T230000Z
DTEND:20150621T050000Z
SUMMARY:Tomorrow People\, Tunes of I and more
END:VEVENT
END:VCALENDAR
