BEGIN:VCALENDAR
VERSION:2.0
PRODID:-//Squarespace Inc/Squarespace 6//v6//EN
BEGIN:VEVENT
UID:56679103bfe8731ec365cb92@squarespace.com
DTSTAMP:20151209T022950Z
DTSTART:20151230T203000Z
DTEND:20160229T213000Z
SUMMARY:Tunes of I Summer Album Release Tour 2016
END:VEVENT
END:VCALENDAR
