BEGIN:VCALENDAR
VERSION:2.0
PRODID:-//Squarespace Inc/Squarespace 6//v6//EN
BEGIN:VEVENT
UID:5653ce00e4b036d0d6dd1a95@squarespace.com
DTSTAMP:20151209T022438Z
DTSTART:20151212T020000Z
DTEND:20151212T060000Z
SUMMARY:'Restless' Wellington Album Release Party
GEO:-41.294097;174.775458
LOCATION:San Fran\, 171 Cuba Street\, Wellington\, Wellington\, 6011\, New 
 Zealand
END:VEVENT
END:VCALENDAR
