BEGIN:VCALENDAR
VERSION:2.0
PRODID:-//Squarespace Inc/Squarespace 6//v6//EN
BEGIN:VEVENT
UID:55700bbbe4b072434a9cfe3c@squarespace.com
DTSTAMP:20150604T082739Z
DTSTART:20151101T023000Z
DTEND:20151101T043000Z
SUMMARY:Halloween at the Southern Cross
END:VEVENT
END:VCALENDAR
